BEGIN:VCALENDAR
VERSION:2.0
PRODID:-//Feuerwehrhistoriker in Niederösterreich - ECPv6.15.20//NONSGML v1.0//EN
CALSCALE:GREGORIAN
METHOD:PUBLISH
X-WR-CALNAME:Feuerwehrhistoriker in Niederösterreich
X-ORIGINAL-URL:https://feuerwehrhistoriker.at
X-WR-CALDESC:Veranstaltungen für Feuerwehrhistoriker in Niederösterreich
REFRESH-INTERVAL;VALUE=DURATION:PT1H
X-Robots-Tag:noindex
X-PUBLISHED-TTL:PT1H
BEGIN:VTIMEZONE
TZID:UTC
BEGIN:STANDARD
TZOFFSETFROM:+0000
TZOFFSETTO:+0000
TZNAME:UTC
DTSTART:20250101T000000
END:STANDARD
END:VTIMEZONE
BEGIN:VEVENT
DTSTART;TZID=UTC:20260516T100000
DTEND;TZID=UTC:20260516T180000
DTSTAMP:20260419T125007
CREATED:20260411T233309Z
LAST-MODIFIED:20260411T233309Z
UID:825-1778925600-1778954400@feuerwehrhistoriker.at
SUMMARY:Ausstellungseröffnung Uniformen-Geschichte
DESCRIPTION:Eröffnung der Ausstellung “100 Jahre österreichische Uniformen-Geschichte” im Kulturhaus Felixdorf. \nPlakat Uniformen-Geschichte
URL:https://feuerwehrhistoriker.at/event/ausstellungseroeffnung-uniformen-geschichte/
LOCATION:Kulturhaus Felixdorf\, Schulstraße 4\, Felixdorf\, Niederösterreich\, 2603\, Austria
END:VEVENT
BEGIN:VEVENT
DTSTART;TZID=UTC:20260628T000000
DTEND;TZID=UTC:20260628T235959
DTSTAMP:20260419T125007
CREATED:20250708T163344Z
LAST-MODIFIED:20250708T163344Z
UID:659-1782604800-1782691199@feuerwehrhistoriker.at
SUMMARY:Oldtimer-Ausfahrt
DESCRIPTION:Gemeinsame Bewegungsfahrt mit Feuerwehr-Oldtimern.
URL:https://feuerwehrhistoriker.at/event/oldtimer-ausfahrt-2/
LOCATION:Niederösterreich
END:VEVENT
END:VCALENDAR